Workbook

Sheet Test
A1: [ID2.SG1] Number | B1: [ID0.SG2] High | C1: [ID0.SG3] Low | D1: [ID0.SG4] Last | F1: [ID1.SG1] ADX | G1: Calculated | H1: Calculated | I1: Calculated
B2: H | C2: L | D2: C | F2: ADX(14,14) | G2: ADX(14,14) | H2: Diff ADX(14,14) | I2: % ADX(14,14)
A3: 1 | B3: 0.7629 | C3: 0.76285 | D3: 0.76285
A4: 2 | B4: 0.76285 | C4: 0.76285 | D4: 0.76285
A5: 3 | B5: 0.7629 | C5: 0.7629 | D5: 0.7629
A6: 4 | B6: 0.7629 | C6: 0.76285 | D6: 0.76285
A7: 5 | B7: 0.7629 | C7: 0.7629 | D7: 0.7629
A8: 6 | B8: 0.763 | C8: 0.76295 | D8: 0.763
A9: 7 | B9: 0.763 | C9: 0.763 | D9: 0.763
A10: 8 | B10: 0.763 | C10: 0.76295 | D10: 0.763
A11: 9 | B11: 0.7629 | C11: 0.7629 | D11: 0.7629
A12: 10 | B12: 0.76295 | C12: 0.76295 | D12: 0.76295
A13: 11 | B13: 0.76295 | C13: 0.7629 | D13: 0.7629
A14: 12 | B14: 0.7629 | C14: 0.7629 | D14: 0.7629
... A29: 27 | B29: 0.76295 | C29: 0.76285 | D29: 0.76285
A30: 28 | B30: 0.7629 | C30: 0.7629 | D30: 0.7629 | F30: 9.5776033 | G30: =IntermediateCalculations!W30 -> 9.5759 | H30: =G3 - F3 -> 0 | I30: =H30/F30*100 -> 0
A31: 29 | B31: 0.76295 | C31: 0.7629 | D31: 0.76295 | F31: 9.0756531 | G31: =IntermediateCalculations!W31 -> 9.0740535 | H31: =G4 - F4 -> 0 | I31: =H31/F31*100 -> 0
A32: 30 | B32: 0.7629 | C32: 0.7629 | D32: 0.7629 | F32: 8.6095572 | G32: =IntermediateCalculations!W32 -> 8.6080532 | H32: =G5 - F5 -> 0 | I32: =H32/F32*100 -> 0
A33: 31 | B33: 0.7629 | C33: 0.7629 | D33: 0.7629 | F33: 8.176753 | G33: =IntermediateCalculations!W33 -> 8.1753386 | H33: =G6 - F6 -> 0 | I33: =H33/F33*100 -> 0
A34: 32 | B34: 0.76295 | C34: 0.7629 | D34: 0.7629 | F34: 8.4218826 | G34: =IntermediateCalculations!W34 -> 8.4204971 | H34: =G7 - F7 -> 0 | I34: =H34/F34*100 -> 0
A35: 33 | B35: 0.7629 | C35: 0.7629 | D35: 0.7629 | F35: 8.6495028 | G35: =IntermediateCalculations!W35 -> 8.6481443 | H35: =G8 - F8 -> 0 | I35: =H35/F35*100 -> 0
A36: 34 | B36: 0.7629 | C36: 0.7629 | D36: 0.7629 | F36: 8.8608646 | G36: =IntermediateCalculations!W36 -> 8.8595309 | H36: =G9 - F9 -> 0 | I36: =H36/F36*100 -> 0
A37: 35 | B37: 0.763 | C37: 0.76295 | D37: 0.763 | F37: 10.675507 | G37: =IntermediateCalculations!W37 -> 10.674828 | H37: =G10 - F10 -> 0 | I37: =H37/F37*100 -> 0
A38: 36 | B38: 0.76295 | C38: 0.76295 | D38: 0.76295 | F38: 12.360532 | G38: =IntermediateCalculations!W38 -> 12.36046 | H38: =G11 - F11 -> 0 | I38: =H38/F38*100 -> 0
A39: 37 | B39: 0.7629 | C39: 0.7629 | D39: 0.7629 | F39: 12.6835 | G39: =IntermediateCalculations!W39 -> 12.684155 | H39: =G12 - F12 -> 0 | I39: =H39/F39*100 -> 0
A40: 38 | B40: 0.76295 | C40: 0.76295 | D40: 0.76295 | F40: 13.709909 | G40: =IntermediateCalculations!W40 -> 13.71103 | H40: =G13 - F13 -> 0 | I40: =H40/F40*100 -> 0
A41: 39 | B41: 0.7629 | C41: 0.7629 | D41: 0.7629 | F41: 13.606298 | G41: =IntermediateCalculations!W41 -> 13.607946 | H41: =G14 - F14 -> 0 | I41: =H41/F41*100 -> 0
... A71: 69 | B71: 0.76295 | C71: 0.7629 | D71: 0.7629 | F71: 19.481287 | G71: =IntermediateCalculations!W71 -> 19.482349 | H71: =G44 - F44 -> 0.0030162535 | I71: =H71/F71*100 -> 0.015482825

Sheet IntermediateCalculations
A1: [ID2.SG1] Number | B1: [ID0.SG2] High | C1: [ID0.SG3] Low | D1: [ID0.SG4] Last | F1: Calculated | G1: Calculated | I1: Calculated | J1: Calculated | L1: Calculated | M1: Calculated | O1: Calculated | P1: Calculated | R1: Calculated | S1: Calculated | U1: Calculated | W1: Calculated
B2: H | C2: L | D2: C | F2: DeltaH | G2: -DeltaL | I2: DM(+) | J2: DM(-) | L2: WS(DM(+),14) | M2: WS(DM(-),14) | O2: TR | P2: WS(TR,14) | R2: DI(+)(14) | S2: DI(-)(14) | U2: DX(14) | W2: ADX(14,14)
A3: 1 | B3: 0.7629 | C3: 0.76285 | D3: 0.76285 | F3: =0 -> 0 | G3: =0 -> 0 | I3: =0 -> 0 | J3: =0 -> 0 | L3: =I3 -> 0 | M3: =J3 -> 0 | O3: =B3 - C3 -> 5e-05 | P3: =O3 -> 5e-05 | R3: =100*L3/P3 -> 0 | S3: =100*M3/P3 -> 0 | U3: =0 -> 0
A4: 2 | B4: 0.76285 | C4: 0.76285 | D4: 0.76285 | F4: =B4 - B3 -> -5e-05 | G4: =C3 - C4 -> 0 | I4: =IF(AND(F4 > G4, F4 > 0), F4, 0) -> 0 | J4: =IF(AND(G4 > F4, G4 > 0), G4, 0) -> 0 | L4: =L3 + I4 -> 0 | M4: =M3 + J4 -> 0 | O4: =MAX(B4 - C4, ABS(B4 - D3), ABS(C4 - D3)) -> 0 | P4: =P3 + O4 -> 5e-05 | R4: =100*L4/P4 -> 0 | S4: =100*M4/P4 -> 0 | U4: =IF(R4 + S4 = 0, U3, 100*ABS(R4 - S4)/(R4 + S4)) -> 0
A5: 3 | B5: 0.7629 | C5: 0.7629 | D5: 0.7629 | F5: =B5 - B4 -> 5e-05 | G5: =C4 - C5 -> -5e-05 | I5: =IF(AND(F5 > G5, F5 > 0), F5, 0) -> 5e-05 | J5: =IF(AND(G5 > F5, G5 > 0), G5, 0) -> 0 | L5: =L4 + I5 -> 5e-05 | M5: =M4 + J5 -> 0 | O5: =MAX(B5 - C5, ABS(B5 - D4), ABS(C5 - D4)) -> 5e-05 | P5: =P4 + O5 -> 0.0001 | R5: =100*L5/P5 -> 50 | S5: =100*M5/P5 -> 0 | U5: =IF(R5 + S5 = 0, U4, 100*ABS(R5 - S5)/(R5 + S5)) -> 100
A6: 4 | B6: 0.7629 | C6: 0.76285 | D6: 0.76285 | F6: =B6 - B5 -> 0 | G6: =C5 - C6 -> 5e-05 | I6: =IF(AND(F6 > G6, F6 > 0), F6, 0) -> 0 | J6: =IF(AND(G6 > F6, G6 > 0), G6, 0) -> 5e-05 | L6: =L5 + I6 -> 5e-05 | M6: =M5 + J6 -> 5e-05 | O6: =MAX(B6 - C6, ABS(B6 - D5), ABS(C6 - D5)) -> 5e-05 | P6: =P5 + O6 -> 0.00015 | R6: =100*L6/P6 -> 33.333333 | S6: =100*M6/P6 -> 33.333333 | U6: =IF(R6 + S6 = 0, U5, 100*ABS(R6 - S6)/(R6 + S6)) -> 0
A7: 5 | B7: 0.7629 | C7: 0.7629 | D7: 0.7629 | F7: =B7 - B6 -> 0 | G7: =C6 - C7 -> -5e-05 | I7: =IF(AND(F7 > G7, F7 > 0), F7, 0) -> 0 | J7: =IF(AND(G7 > F7, G7 > 0), G7, 0) -> 0 | L7: =L6 + I7 -> 5e-05 | M7: =M6 + J7 -> 5e-05 | O7: =MAX(B7 - C7, ABS(B7 - D6), ABS(C7 - D6)) -> 5e-05 | P7: =P6 + O7 -> 0.0002 | R7: =100*L7/P7 -> 25 | S7: =100*M7/P7 -> 25 | U7: =IF(R7 + S7 = 0, U6, 100*ABS(R7 - S7)/(R7 + S7)) -> 0
A8: 6 | B8: 0.763 | C8: 0.76295 | D8: 0.763 | F8: =B8 - B7 -> 0.0001 | G8: =C7 - C8 -> -5e-05 | I8: =IF(AND(F8 > G8, F8 > 0), F8, 0) -> 0.0001 | J8: =IF(AND(G8 > F8, G8 > 0), G8, 0) -> 0 | L8: =L7 + I8 -> 0.00015 | M8: =M7 + J8 -> 5e-05 | O8: =MAX(B8 - C8, ABS(B8 - D7), ABS(C8 - D7)) -> 0.0001 | P8: =P7 + O8 -> 0.0003 | R8: =100*L8/P8 -> 50 | S8: =100*M8/P8 -> 16.666667 | U8: =IF(R8 + S8 = 0, U7, 100*ABS(R8 - S8)/(R8 + S8)) -> 50
A9: 7 | B9: 0.763 | C9: 0.763 | D9: 0.763 | F9: =B9 - B8 -> 0 | G9: =C8 - C9 -> -5e-05 | I9: =IF(AND(F9 > G9, F9 > 0), F9, 0) -> 0 | J9: =IF(AND(G9 > F9, G9 > 0), G9, 0) -> 0 | L9: =L8 + I9 -> 0.00015 | M9: =M8 + J9 -> 5e-05 | O9: =MAX(B9 - C9, ABS(B9 - D8), ABS(C9 - D8)) -> 0 | P9: =P8 + O9 -> 0.0003 | R9: =100*L9/P9 -> 50 | S9: =100*M9/P9 -> 16.666667 | U9: =IF(R9 + S9 = 0, U8, 100*ABS(R9 - S9)/(R9 + S9)) -> 50
A10: 8 | B10: 0.763 | C10: 0.76295 | D10: 0.763 | F10: =B10 - B9 -> 0 | G10: =C9 - C10 -> 5e-05 | I10: =IF(AND(F10 > G10, F10 > 0), F10, 0) -> 0 | J10: =IF(AND(G10 > F10, G10 > 0), G10, 0) -> 5e-05 | L10: =L9 + I10 -> 0.00015 | M10: =M9 + J10 -> 0.0001 | O10: =MAX(B10 - C10, ABS(B10 - D9), ABS(C10 - D9)) -> 5e-05 | P10: =P9 + O10 -> 0.00035 | R10: =100*L10/P10 -> 42.857143 | S10: =100*M10/P10 -> 28.571429 | U10: =IF(R10 + S10 = 0, U9, 100*ABS(R10 - S10)/(R10 + S10)) -> 20
A11: 9 | B11: 0.7629 | C11: 0.7629 | D11: 0.7629 | F11: =B11 - B10 -> -0.0001 | G11: =C10 - C11 -> 5e-05 | I11: =IF(AND(F11 > G11, F11 > 0), F11, 0) -> 0 | J11: =IF(AND(G11 > F11, G11 > 0), G11, 0) -> 5e-05 | L11: =L10 + I11 -> 0.00015 | M11: =M10 + J11 -> 0.00015 | O11: =MAX(B11 - C11, ABS(B11 - D10), ABS(C11 - D10)) -> 0.0001 | P11: =P10 + O11 -> 0.00045 | R11: =100*L11/P11 -> 33.333333 | S11: =100*M11/P11 -> 33.333333 | U11: =IF(R11 + S11 = 0, U10, 100*ABS(R11 - S11)/(R11 + S11)) -> 0
A12: 10 | B12: 0.76295 | C12: 0.76295 | D12: 0.76295 | F12: =B12 - B11 -> 5e-05 | G12: =C11 - C12 -> -5e-05 | I12: =IF(AND(F12 > G12, F12 > 0), F12, 0) -> 5e-05 | J12: =IF(AND(G12 > F12, G12 > 0), G12, 0) -> 0 | L12: =L11 + I12 -> 0.0002 | M12: =M11 + J12 -> 0.00015 | O12: =MAX(B12 - C12, ABS(B12 - D11), ABS(C12 - D11)) -> 5e-05 | P12: =P11 + O12 -> 0.0005 | R12: =100*L12/P12 -> 40 | S12: =100*M12/P12 -> 30 | U12: =IF(R12 + S12 = 0, U11, 100*ABS(R12 - S12)/(R12 + S12)) -> 14.285714
A13: 11 | B13: 0.76295 | C13: 0.7629 | D13: 0.7629 | F13: =B13 - B12 -> 0 | G13: =C12 - C13 -> 5e-05 | I13: =IF(AND(F13 > G13, F13 > 0), F13, 0) -> 0 | J13: =IF(AND(G13 > F13, G13 > 0), G13, 0) -> 5e-05 | L13: =L12 + I13 -> 0.0002 | M13: =M12 + J13 -> 0.0002 | O13: =MAX(B13 - C13, ABS(B13 - D12), ABS(C13 - D12)) -> 5e-05 | P13: =P12 + O13 -> 0.00055 | R13: =100*L13/P13 -> 36.363636 | S13: =100*M13/P13 -> 36.363636 | U13: =IF(R13 + S13 = 0, U12, 100*ABS(R13 - S13)/(R13 + S13)) -> 0
A14: 12 | B14: 0.7629 | C14: 0.7629 | D14: 0.7629 | F14: =B14 - B13 -> -5e-05 | G14: =C13 - C14 -> 0 | I14: =IF(AND(F14 > G14, F14 > 0), F14, 0) -> 0 | J14: =IF(AND(G14 > F14, G14 > 0), G14, 0) -> 0 | L14: =L13 + I14 -> 0.0002 | M14: =M13 + J14 -> 0.0002 | O14: =MAX(B14 - C14, ABS(B14 - D13), ABS(C14 - D13)) -> 0 | P14: =P13 + O14 -> 0.00055 | R14: =100*L14/P14 -> 36.363636 | S14: =100*M14/P14 -> 36.363636 | U14: =IF(R14 + S14 = 0, U13, 100*ABS(R14 - S14)/(R14 + S14)) -> 0
A15: 13 | B15: 0.76285 | C15: 0.76285 | D15: 0.76285 | F15: =B15 - B14 -> -5e-05 | G15: =C14 - C15 -> 5e-05 | I15: =IF(AND(F15 > G15, F15 > 0), F15, 0) -> 0 | J15: =IF(AND(G15 > F15, G15 > 0), G15, 0) -> 5e-05 | L15: =L14 + I15 -> 0.0002 | M15: =M14 + J15 -> 0.00025 | O15: =MAX(B15 - C15, ABS(B15 - D14), ABS(C15 - D14)) -> 5e-05 | P15: =P14 + O15 -> 0.0006 | R15: =100*L15/P15 -> 33.333333 | S15: =100*M15/P15 -> 41.666667 | U15: =IF(R15 + S15 = 0, U14, 100*ABS(R15 - S15)/(R15 + S15)) -> 11.111111
A16: 14 | B16: 0.7629 | C16: 0.76285 | D16: 0.76285 | F16: =B16 - B15 -> 5e-05 | G16: =C15 - C16 -> 0 | I16: =IF(AND(F16 > G16, F16 > 0), F16, 0) -> 5e-05 | J16: =IF(AND(G16 > F16, G16 > 0), G16, 0) -> 0 | L16: =L15 + I16 -> 0.00025 | M16: =M15 + J16 -> 0.00025 | O16: =MAX(B16 - C16, ABS(B16 - D15), ABS(C16 - D15)) -> 5e-05 | P16: =P15 + O16 -> 0.00065 | R16: =100*L16/P16 -> 38.461538 | S16: =100*M16/P16 -> 38.461538 | U16: =IF(R16 + S16 = 0, U15, 100*ABS(R16 - S16)/(R16 + S16)) -> 0
A17: 15 | B17: 0.7629 | C17: 0.76285 | D17: 0.7629 | F17: =B17 - B16 -> 0 | G17: =C16 - C17 -> 0 | I17: =IF(AND(F17 > G17, F17 > 0), F17, 0) -> 0 | J17: =IF(AND(G17 > F17, G17 > 0), G17, 0) -> 0 | L17: =L16 - L16/14 + I17 -> 0.00023214286 | M17: =M16 - M16/14 + J17 -> 0.00023214286 | O17: =MAX(B17 - C17, ABS(B17 - D16), ABS(C17 - D16)) -> 5e-05 | P17: =P16 - P16/14 + O17 -> 0.00065357143 | R17: =100*L17/P17 -> 35.519126 | S17: =100*M17/P17 -> 35.519126 | U17: =IF(R17 + S17 = 0, U16, 100*ABS(R17 - S17)/(R17 + S17)) -> 0
A18: 16 | B18: 0.76285 | C18: 0.76285 | D18: 0.76285 | F18: =B18 - B17 -> -5e-05 | G18: =C17 - C18 -> 0 | I18: =IF(AND(F18 > G18, F18 > 0), F18, 0) -> 0 | J18: =IF(AND(G18 > F18, G18 > 0), G18, 0) -> 0 | L18: =L17 - L17/14 + I18 -> 0.00021556122 | M18: =M17 - M17/14 + J18 -> 0.00021556122 | O18: =MAX(B18 - C18, ABS(B18 - D17), ABS(C18 - D17)) -> 5e-05 | P18: =P17 - P17/14 + O18 -> 0.00065688776 | R18: =100*L18/P18 -> 32.815534 | S18: =100*M18/P18 -> 32.815534 | U18: =IF(R18 + S18 = 0, U17, 100*ABS(R18 - S18)/(R18 + S18)) -> 0
A19: 17 | B19: 0.7629 | C19: 0.76285 | D19: 0.76285 | F19: =B19 - B18 -> 5e-05 | G19: =C18 - C19 -> 0 | I19: =IF(AND(F19 > G19, F19 > 0), F19, 0) -> 5e-05 | J19: =IF(AND(G19 > F19, G19 > 0), G19, 0) -> 0 | L19: =L18 - L18/14 + I19 -> 0.00025016399 | M19: =M18 - M18/14 + J19 -> 0.00020016399 | O19: =MAX(B19 - C19, ABS(B19 - D18), ABS(C19 - D18)) -> 5e-05 | P19: =P18 - P18/14 + O19 -> 0.0006599672 | R19: =100*L19/P19 -> 37.905519 | S19: =100*M19/P19 -> 30.329385 | U19: =IF(R19 + S19 = 0, U18, 100*ABS(R19 - S19)/(R19 + S19)) -> 11.103019
A20: 18 | B20: 0.7629 | C20: 0.76285 | D20: 0.7629 | F20: =B20 - B19 -> 0 | G20: =C19 - C20 -> 0 | I20: =IF(AND(F20 > G20, F20 > 0), F20, 0) -> 0 | J20: =IF(AND(G20 > F20, G20 > 0), G20, 0) -> 0 | L20: =L19 - L19/14 + I20 -> 0.00023229514 | M20: =M19 - M19/14 + J20 -> 0.00018586657 | O20: =MAX(B20 - C20, ABS(B20 - D19), ABS(C20 - D19)) -> 5e-05 | P20: =P19 - P19/14 + O20 -> 0.00066282669 | R20: =100*L20/P20 -> 35.046135 | S20: =100*M20/P20 -> 28.041503 | U20: =IF(R20 + S20 = 0, U19, 100*ABS(R20 - S20)/(R20 + S20)) -> 11.103019
A21: 19 | B21: 0.7629 | C21: 0.76285 | D21: 0.76285 | F21: =B21 - B20 -> 0 | G21: =C20 - C21 -> 0 | I21: =IF(AND(F21 > G21, F21 > 0), F21, 0) -> 0 | J21: =IF(AND(G21 > F21, G21 > 0), G21, 0) -> 0 | L21: =L20 - L20/14 + I21 -> 0.00021570263 | M21: =M20 - M20/14 + J21 -> 0.00017259038 | O21: =MAX(B21 - C21, ABS(B21 - D20), ABS(C21 - D20)) -> 5e-05 | P21: =P20 - P20/14 + O21 -> 0.00066548192 | R21: =100*L21/P21 -> 32.412996 | S21: =100*M21/P21 -> 25.934646 | U21: =IF(R21 + S21 = 0, U20, 100*ABS(R21 - S21)/(R21 + S21)) -> 11.103019
A22: 20 | B22: 0.7629 | C22: 0.76285 | D22: 0.76285 | F22: =B22 - B21 -> 0 | G22: =C21 - C22 -> 0 | I22: =IF(AND(F22 > G22, F22 > 0), F22, 0) -> 0 | J22: =IF(AND(G22 > F22, G22 > 0), G22, 0) -> 0 | L22: =L21 - L21/14 + I22 -> 0.0002002953 | M22: =M21 - M21/14 + J22 -> 0.0001602625 | O22: =MAX(B22 - C22, ABS(B22 - D21), ABS(C22 - D21)) -> 5e-05 | P22: =P21 - P21/14 + O22 -> 0.0006679475 | R22: =100*L22/P22 -> 29.986683 | S22: =100*M22/P22 -> 23.993278 | U22: =IF(R22 + S22 = 0, U21, 100*ABS(R22 - S22)/(R22 + S22)) -> 11.103019
A23: 21 | B23: 0.7629 | C23: 0.76285 | D23: 0.76285 | F23: =B23 - B22 -> 0 | G23: =C22 - C23 -> 0 | I23: =IF(AND(F23 > G23, F23 > 0), F23, 0) -> 0 | J23: =IF(AND(G23 > F23, G23 > 0), G23, 0) -> 0 | L23: =L22 - L22/14 + I23 -> 0.00018598849 | M23: =M22 - M22/14 + J23 -> 0.00014881518 | O23: =MAX(B23 - C23, ABS(B23 - D22), ABS(C23 - D22)) -> 5e-05 | P23: =P22 - P22/14 + O23 -> 0.00067023696 | R23: =100*L23/P23 -> 27.749662 | S23: =100*M23/P23 -> 22.203368 | U23: =IF(R23 + S23 = 0, U22, 100*ABS(R23 - S23)/(R23 + S23)) -> 11.103019
A24: 22 | B24: 0.7629 | C24: 0.76285 | D24: 0.76285 | F24: =B24 - B23 -> 0 | G24: =C23 - C24 -> 0 | I24: =IF(AND(F24 > G24, F24 > 0), F24, 0) -> 0 | J24: =IF(AND(G24 > F24, G24 > 0), G24, 0) -> 0 | L24: =L23 - L23/14 + I24 -> 0.0001727036 | M24: =M23 - M23/14 + J24 -> 0.00013818552 | O24: =MAX(B24 - C24, ABS(B24 - D23), ABS(C24 - D23)) -> 5e-05 | P24: =P23 - P23/14 + O24 -> 0.0006723629 | R24: =100*L24/P24 -> 25.686069 | S24: =100*M24/P24 -> 20.552223 | U24: =IF(R24 + S24 = 0, U23, 100*ABS(R24 - S24)/(R24 + S24)) -> 11.103019
A25: 23 | B25: 0.7629 | C25: 0.7629 | D25: 0.7629 | F25: =B25 - B24 -> 0 | G25: =C24 - C25 -> -5e-05 | I25: =IF(AND(F25 > G25, F25 > 0), F25, 0) -> 0 | J25: =IF(AND(G25 > F25, G25 > 0), G25, 0) -> 0 | L25: =L24 - L24/14 + I25 -> 0.00016036763 | M25: =M24 - M24/14 + J25 -> 0.00012831513 | O25: =MAX(B25 - C25, ABS(B25 - D24), ABS(C25 - D24)) -> 5e-05 | P25: =P24 - P24/14 + O25 -> 0.00067433697 | R25: =100*L25/P25 -> 23.781527 | S25: =100*M25/P25 -> 19.028339 | U25: =IF(R25 + S25 = 0, U24, 100*ABS(R25 - S25)/(R25 + S25)) -> 11.103019
A26: 24 | B26: 0.7629 | C26: 0.76285 | D26: 0.7629 | F26: =B26 - B25 -> 0 | G26: =C25 - C26 -> 5e-05 | I26: =IF(AND(F26 > G26, F26 > 0), F26, 0) -> 0 | J26: =IF(AND(G26 > F26, G26 > 0), G26, 0) -> 5e-05 | L26: =L25 - L25/14 + I26 -> 0.0001489128 | M26: =M25 - M25/14 + J26 -> 0.00016914976 | O26: =MAX(B26 - C26, ABS(B26 - D25), ABS(C26 - D25)) -> 5e-05 | P26: =P25 - P25/14 + O26 -> 0.00067617005 | R26: =100*L26/P26 -> 22.02298 | S26: =100*M26/P26 -> 25.015861 | U26: =IF(R26 + S26 = 0, U25, 100*ABS(R26 - S26)/(R26 + S26)) -> 6.3625737
A27: 25 | B27: 0.76295 | C27: 0.76295 | D27: 0.76295 | F27: =B27 - B26 -> 5e-05 | G27: =C26 - C27 -> -0.0001 | I27: =IF(AND(F27 > G27, F27 > 0), F27, 0) -> 5e-05 | J27: =IF(AND(G27 > F27, G27 > 0), G27, 0) -> 0 | L27: =L26 - L26/14 + I27 -> 0.00018827617 | M27: =M26 - M26/14 + J27 -> 0.00015706764 | O27: =MAX(B27 - C27, ABS(B27 - D26), ABS(C27 - D26)) -> 5e-05 | P27: =P26 - P26/14 + O27 -> 0.00067787219 | R27: =100*L27/P27 -> 27.774582 | S27: =100*M27/P27 -> 23.170686 | U27: =IF(R27 + S27 = 0, U26, 100*ABS(R27 - S27)/(R27 + S27)) -> 9.036946
A28: 26 | B28: 0.76295 | C28: 0.7629 | D28: 0.7629 | F28: =B28 - B27 -> 0 | G28: =C27 - C28 -> 5e-05 | I28: =IF(AND(F28 > G28, F28 > 0), F28, 0) -> 0 | J28: =IF(AND(G28 > F28, G28 > 0), G28, 0) -> 5e-05 | L28: =L27 - L27/14 + I28 -> 0.00017482787 | M28: =M27 - M27/14 + J28 -> 0.00019584852 | O28: =MAX(B28 - C28, ABS(B28 - D27), ABS(C28 - D27)) -> 5e-05 | P28: =P27 - P27/14 + O28 -> 0.00067945275 | R28: =100*L28/P28 -> 25.730689 | S28: =100*M28/P28 -> 28.82445 | U28: =IF(R28 + S28 = 0, U27, 100*ABS(R28 - S28)/(R28 + S28)) -> 5.6708894
A29: 27 | B29: 0.76295 | C29: 0.76285 | D29: 0.76285 | F29: =B29 - B28 -> 0 | G29: =C28 - C29 -> 5e-05 | I29: =IF(AND(F29 > G29, F29 > 0), F29, 0) -> 0 | J29: =IF(AND(G29 > F29, G29 > 0), G29, 0) -> 5e-05 | L29: =L28 - L28/14 + I29 -> 0.00016234017 | M29: =M28 - M28/14 + J29 -> 0.00023185934 | O29: =MAX(B29 - C29, ABS(B29 - D28), ABS(C29 - D28)) -> 0.0001 | P29: =P28 - P28/14 + O29 -> 0.00073092041 | R29: =100*L29/P29 -> 22.210375 | S29: =100*M29/P29 -> 31.721558 | U29: =IF(R29 + S29 = 0, U28, 100*ABS(R29 - S29)/(R29 + S29)) -> 17.63553
A30: 28 | B30: 0.7629 | C30: 0.7629 | D30: 0.7629 | F30: =B30 - B29 -> -5e-05 | G30: =C29 - C30 -> -5e-05 | I30: =IF(AND(F30 > G30, F30 > 0), F30, 0) -> 0 | J30: =IF(AND(G30 > F30, G30 > 0), G30, 0) -> 0 | L30: =L29 - L29/14 + I30 -> 0.00015074444 | M30: =M29 - M29/14 + J30 -> 0.00021529796 | O30: =MAX(B30 - C30, ABS(B30 - D29), ABS(C30 - D29)) -> 5e-05 | P30: =P29 - P29/14 + O30 -> 0.00072871181 | R30: =100*L30/P30 -> 20.686427 | S30: =100*M30/P30 -> 29.545007 | U30: =IF(R30 + S30 = 0, U29, 100*ABS(R30 - S30)/(R30 + S30)) -> 17.63553 | W30: =SUM(U17:U30)/14 -> 9.5759
A31: 29 | B31: 0.76295 | C31: 0.7629 | D31: 0.76295 | F31: =B31 - B30 -> 5e-05 | G31: =C30 - C31 -> 0 | I31: =IF(AND(F31 > G31, F31 > 0), F31, 0) -> 5e-05 | J31: =IF(AND(G31 > F31, G31 > 0), G31, 0) -> 0 | L31: =L30 - L30/14 + I31 -> 0.00018997698 | M31: =M30 - M30/14 + J31 -> 0.00019991953 | O31: =MAX(B31 - C31, ABS(B31 - D30), ABS(C31 - D30)) -> 5e-05 | P31: =P30 - P30/14 + O31 -> 0.00072666096 | R31: =100*L31/P31 -> 26.143826 | S31: =100*M31/P31 -> 27.512078 | U31: =IF(R31 + S31 = 0, U30, 100*ABS(R31 - S31)/(R31 + S31)) -> 2.5500491 | W31: =W30 +(1/14)*(U31 - W30) -> 9.0740535
A32: 30 | B32: 0.7629 | C32: 0.7629 | D32: 0.7629 | F32: =B32 - B31 -> -5e-05 | G32: =C31 - C32 -> 0 | I32: =IF(AND(F32 > G32, F32 > 0), F32, 0) -> 0 | J32: =IF(AND(G32 > F32, G32 > 0), G32, 0) -> 0 | L32: =L31 - L31/14 + I32 -> 0.00017640719 | M32: =M31 - M31/14 + J32 -> 0.00018563957 | O32: =MAX(B32 - C32, ABS(B32 - D31), ABS(C32 - D31)) -> 5e-05 | P32: =P31 - P31/14 + O32 -> 0.00072475661 | R32: =100*L32/P32 -> 24.340198 | S32: =100*M32/P32 -> 25.614056 | U32: =IF(R32 + S32 = 0, U31, 100*ABS(R32 - S32)/(R32 + S32)) -> 2.5500491 | W32: =W31 +(1/14)*(U32 - W31) -> 8.6080532
A33: 31 | B33: 0.7629 | C33: 0.7629 | D33: 0.7629 | F33: =B33 - B32 -> 0 | G33: =C32 - C33 -> 0 | I33: =IF(AND(F33 > G33, F33 > 0), F33, 0) -> 0 | J33: =IF(AND(G33 > F33, G33 > 0), G33, 0) -> 0 | L33: =L32 - L32/14 + I33 -> 0.00016380668 | M33: =M32 - M32/14 + J33 -> 0.0001723796 | O33: =MAX(B33 - C33, ABS(B33 - D32), ABS(C33 - D32)) -> 0 | P33: =P32 - P32/14 + O33 -> 0.00067298828 | R33: =100*L33/P33 -> 24.340198 | S33: =100*M33/P33 -> 25.614056 | U33: =IF(R33 + S33 = 0, U32, 100*ABS(R33 - S33)/(R33 + S33)) -> 2.5500491 | W33: =W32 +(1/14)*(U33 - W32) -> 8.1753386
A34: 32 | B34: 0.76295 | C34: 0.7629 | D34: 0.7629 | F34: =B34 - B33 -> 5e-05 | G34: =C33 - C34 -> 0 | I34: =IF(AND(F34 > G34, F34 > 0), F34, 0) -> 5e-05 | J34: =IF(AND(G34 > F34, G34 > 0), G34, 0) -> 0 | L34: =L33 - L33/14 + I34 -> 0.0002021062 | M34: =M33 - M33/14 + J34 -> 0.00016006677 | O34: =MAX(B34 - C34, ABS(B34 - D33), ABS(C34 - D33)) -> 5e-05 | P34: =P33 - P33/14 + O34 -> 0.00067491769 | R34: =100*L34/P34 -> 29.945311 | S34: =100*M34/P34 -> 23.716487 | U34: =IF(R34 + S34 = 0, U33, 100*ABS(R34 - S34)/(R34 + S34)) -> 11.607558 | W34: =W33 +(1/14)*(U34 - W33) -> 8.4204971
A35: 33 | B35: 0.7629 | C35: 0.7629 | D35: 0.7629 | F35: =B35 - B34 -> -5e-05 | G35: =C34 - C35 -> 0 | I35: =IF(AND(F35 > G35, F35 > 0), F35, 0) -> 0 | J35: =IF(AND(G35 > F35, G35 > 0), G35, 0) -> 0 | L35: =L34 - L34/14 + I35 -> 0.00018767005 | M35: =M34 - M34/14 + J35 -> 0.00014863343 | O35: =MAX(B35 - C35, ABS(B35 - D34), ABS(C35 - D34)) -> 0 | P35: =P34 - P34/14 + O35 -> 0.00062670928 | R35: =100*L35/P35 -> 29.945311 | S35: =100*M35/P35 -> 23.716487 | U35: =IF(R35 + S35 = 0, U34, 100*ABS(R35 - S35)/(R35 + S35)) -> 11.607558 | W35: =W34 +(1/14)*(U35 - W34) -> 8.6481443
A36: 34 | B36: 0.7629 | C36: 0.7629 | D36: 0.7629 | F36: =B36 - B35 -> 0 | G36: =C35 - C36 -> 0 | I36: =IF(AND(F36 > G36, F36 > 0), F36, 0) -> 0 | J36: =IF(AND(G36 > F36, G36 > 0), G36, 0) -> 0 | L36: =L35 - L35/14 + I36 -> 0.00017426504 | M36: =M35 - M35/14 + J36 -> 0.00013801675 | O36: =MAX(B36 - C36, ABS(B36 - D35), ABS(C36 - D35)) -> 0 | P36: =P35 - P35/14 + O36 -> 0.00058194433 | R36: =100*L36/P36 -> 29.945311 | S36: =100*M36/P36 -> 23.716487 | U36: =IF(R36 + S36 = 0, U35, 100*ABS(R36 - S36)/(R36 + S36)) -> 11.607558 | W36: =W35 +(1/14)*(U36 - W35) -> 8.8595309
A37: 35 | B37: 0.763 | C37: 0.76295 | D37: 0.763 | F37: =B37 - B36 -> 0.0001 | G37: =C36 - C37 -> -5e-05 | I37: =IF(AND(F37 > G37, F37 > 0), F37, 0) -> 0.0001 | J37: =IF(AND(G37 > F37, G37 > 0), G37, 0) -> 0 | L37: =L36 - L36/14 + I37 -> 0.00026181754 | M37: =M36 - M36/14 + J37 -> 0.00012815841 | O37: =MAX(B37 - C37, ABS(B37 - D36), ABS(C37 - D36)) -> 0.0001 | P37: =P36 - P36/14 + O37 -> 0.00064037688 | R37: =100*L37/P37 -> 40.884914 | S37: =100*M37/P37 -> 20.012967 | U37: =IF(R37 + S37 = 0, U36, 100*ABS(R37 - S37)/(R37 + S37)) -> 34.273684 | W37: =W36 +(1/14)*(U37 - W36) -> 10.674828
A38: 36 | B38: 0.76295 | C38: 0.76295 | D38: 0.76295 | F38: =B38 - B37 -> -5e-05 | G38: =C37 - C38 -> 0 | I38: =IF(AND(F38 > G38, F38 > 0), F38, 0) -> 0 | J38: =IF(AND(G38 > F38, G38 > 0), G38, 0) -> 0 | L38: =L37 - L37/14 + I38 -> 0.00024311629 | M38: =M37 - M37/14 + J38 -> 0.00011900424 | O38: =MAX(B38 - C38, ABS(B38 - D37), ABS(C38 - D37)) -> 5e-05 | P38: =P37 - P37/14 + O38 -> 0.00064463567 | R38: =100*L38/P38 -> 37.71375 | S38: =100*M38/P38 -> 18.460697 | U38: =IF(R38 + S38 = 0, U37, 100*ABS(R38 - S38)/(R38 + S38)) -> 34.273684 | W38: =W37 +(1/14)*(U38 - W37) -> 12.36046
A39: 37 | B39: 0.7629 | C39: 0.7629 | D39: 0.7629 | F39: =B39 - B38 -> -5e-05 | G39: =C38 - C39 -> 5e-05 | I39: =IF(AND(F39 > G39, F39 > 0), F39, 0) -> 0 | J39: =IF(AND(G39 > F39, G39 > 0), G39, 0) -> 5e-05 | L39: =L38 - L38/14 + I39 -> 0.00022575084 | M39: =M38 - M38/14 + J39 -> 0.00016050394 | O39: =MAX(B39 - C39, ABS(B39 - D38), ABS(C39 - D38)) -> 5e-05 | P39: =P38 - P38/14 + O39 -> 0.00064859027 | R39: =100*L39/P39 -> 34.806387 | S39: =100*M39/P39 -> 24.746584 | U39: =IF(R39 + S39 = 0, U38, 100*ABS(R39 - S39)/(R39 + S39)) -> 16.892192 | W39: =W38 +(1/14)*(U39 - W38) -> 12.684155
A40: 38 | B40: 0.76295 | C40: 0.76295 | D40: 0.76295 | F40: =B40 - B39 -> 5e-05 | G40: =C39 - C40 -> -5e-05 | I40: =IF(AND(F40 > G40, F40 > 0), F40, 0) -> 5e-05 | J40: =IF(AND(G40 > F40, G40 > 0), G40, 0) -> 0 | L40: =L39 - L39/14 + I40 -> 0.00025962578 | M40: =M39 - M39/14 + J40 -> 0.00014903937 | O40: =MAX(B40 - C40, ABS(B40 - D39), ABS(C40 - D39)) -> 5e-05 | P40: =P39 - P39/14 + O40 -> 0.00065226239 | R40: =100*L40/P40 -> 39.803886 | S40: =100*M40/P40 -> 22.849604 | U40: =IF(R40 + S40 = 0, U39, 100*ABS(R40 - S40)/(R40 + S40)) -> 27.060396 | W40: =W39 +(1/14)*(U40 - W39) -> 13.71103
...
